BEGIN:VCALENDAR
VERSION:2.0
PRODID:-//Shamanic Ananda - ECPv6.0.6.2//NONSGML v1.0//EN
CALSCALE:GREGORIAN
METHOD:PUBLISH
X-WR-CALNAME:Shamanic Ananda
X-ORIGINAL-URL:https://www.shamanicananda.com
X-WR-CALDESC:Events for Shamanic Ananda
REFRESH-INTERVAL;VALUE=DURATION:PT1H
X-Robots-Tag:noindex
X-PUBLISHED-TTL:PT1H
BEGIN:VTIMEZONE
TZID:UTC
BEGIN:STANDARD
TZOFFSETFROM:+0000
TZOFFSETTO:+0000
TZNAME:UTC
DTSTART:20220101T000000
END:STANDARD
END:VTIMEZONE
BEGIN:VEVENT
DTSTART;VALUE=DATE:20230616
DTEND;VALUE=DATE:20230618
DTSTAMP:20260425T161308
CREATED:20221025T142323Z
LAST-MODIFIED:20221025T142912Z
UID:7587-1686873600-1687046399@www.shamanicananda.com
SUMMARY:Lord's Sacred Domain
DESCRIPTION:This journey will be similar to our Heart-Spirit Ceremony yet COMPLETELY different. \nWithin this experience\, we will be opening the temples of your Queendom/Kingdom and allowing messages and direct experiences of your higher self to awaken. \nWe do not say this lightly. This experience will reveal how you are a master teacher who is learning about your Queendom/Kingdom and how to bring heaven here on earth. This is a birthing process of stepping into the unknown where you do not know what you do not know. This is where transformation and extraordinary possibilities happen. \nCLICK HERE TO LEARN MORE
URL:https://www.shamanicananda.com/event/lords-sacred-domain-3/
CATEGORIES:Discussion,Education,Life Style
ATTACH;FMTTYPE=image/jpeg:https://www.shamanicananda.com/wp-content/uploads/2015/02/image12-4.jpeg
END:VEVENT
BEGIN:VEVENT
DTSTART;VALUE=DATE:20230414
DTEND;VALUE=DATE:20230416
DTSTAMP:20260425T161308
CREATED:20221025T142252Z
LAST-MODIFIED:20221025T142916Z
UID:7585-1681430400-1681603199@www.shamanicananda.com
SUMMARY:Lord's Sacred Domain
DESCRIPTION:This journey will be similar to our Heart-Spirit Ceremony yet COMPLETELY different. \nWithin this experience\, we will be opening the temples of your Queendom/Kingdom and allowing messages and direct experiences of your higher self to awaken. \nWe do not say this lightly. This experience will reveal how you are a master teacher who is learning about your Queendom/Kingdom and how to bring heaven here on earth. This is a birthing process of stepping into the unknown where you do not know what you do not know. This is where transformation and extraordinary possibilities happen. \nCLICK HERE TO LEARN MORE
URL:https://www.shamanicananda.com/event/lords-sacred-domain-2/
CATEGORIES:Discussion,Education,Life Style
ATTACH;FMTTYPE=image/jpeg:https://www.shamanicananda.com/wp-content/uploads/2015/02/image12-4.jpeg
END:VEVENT
BEGIN:VEVENT
DTSTART;VALUE=DATE:20230224
DTEND;VALUE=DATE:20230226
DTSTAMP:20260425T161308
CREATED:20221025T141731Z
LAST-MODIFIED:20221025T142920Z
UID:7580-1677196800-1677369599@www.shamanicananda.com
SUMMARY:Anahata Awakening
DESCRIPTION:This is a 2-day intimate immersive journey working with various entheogens. Please contact us directly for a Discovery Call so we can see if these master teachers and our facilitation are great fits for you.  \nCome take a deep dive into the center of your heart. In these two days\, you will be able to unlock the mysteries of the heart center. You will be able to plant seeds of compassion and nurture them into embodying a new you. \nThis new you sees colors more vibrantly\, smells are enhanced\, and taste buds are more heightened. Looking to remove heart walls and cultivate healthy boundaries? Are you ready to see how deep your love goes? \n\n\nCLICK HERE TO LEARN MORE
URL:https://www.shamanicananda.com/event/anahata-awakening-2/
CATEGORIES:Experiments,Journey,Life Style
ATTACH;FMTTYPE=image/jpeg:https://www.shamanicananda.com/wp-content/uploads/2015/02/image13-4.jpeg
END:VEVENT
BEGIN:VEVENT
DTSTART;VALUE=DATE:20230211
DTEND;VALUE=DATE:20240212
DTSTAMP:20260425T161308
CREATED:20221025T141053Z
LAST-MODIFIED:20221025T142925Z
UID:7574-1676073600-1707695999@www.shamanicananda.com
SUMMARY:Concentration Ceremony
DESCRIPTION:Concentration is one of the eight limbs to Ashtanga yoga.\nAshtanga basically means 8 limbs to enlightenment. Yoga means “to yoke into union or oneness.” \nWhy do we do Concentrations?\nThere are many reasons why a Concentration is beneficial. First and foremost\, you are able to access a present-state awareness that allows you to release the shackles of time for rapid healing. Healing may come in many forms and transformation never looks how you expect it would.\nThe intention behind a Concentration is to work with the sacraments in a subtle way. And to allow the subtle energies to anchor into our hearts. \nCLICK HERE FOR MORE INFORMATION
URL:https://www.shamanicananda.com/event/concentration-ceremony-2-2/
CATEGORIES:Education,Experiments,Life Style
ATTACH;FMTTYPE=image/jpeg:https://www.shamanicananda.com/wp-content/uploads/2015/02/image14-4.jpeg
END:VEVENT
BEGIN:VEVENT
DTSTART;VALUE=DATE:20221217
DTEND;VALUE=DATE:20221219
DTSTAMP:20260425T161308
CREATED:20150210T112159Z
LAST-MODIFIED:20221025T142202Z
UID:246-1671235200-1671407999@www.shamanicananda.com
SUMMARY:Lord's Sacred Domain
DESCRIPTION:This journey will be similar to our Heart-Spirit Ceremony yet COMPLETELY different. \nWithin this experience\, we will be opening the temples of your Queendom/Kingdom and allowing messages and direct experiences of your higher self to awaken. \nWe do not say this lightly. This experience will reveal how you are a master teacher who is learning about your Queendom/Kingdom and how to bring heaven here on earth. This is a birthing process of stepping into the unknown where you do not know what you do not know. This is where transformation and extraordinary possibilities happen. \nCLICK HERE TO LEARN MORE
URL:https://www.shamanicananda.com/event/lords-sacred-domain/
CATEGORIES:Discussion,Education,Life Style
ATTACH;FMTTYPE=image/jpeg:https://www.shamanicananda.com/wp-content/uploads/2015/02/image12-4.jpeg
END:VEVENT
BEGIN:VEVENT
DTSTART;VALUE=DATE:20221125
DTEND;VALUE=DATE:20221127
DTSTAMP:20260425T161308
CREATED:20150210T114147Z
LAST-MODIFIED:20221025T141559Z
UID:250-1669334400-1669507199@www.shamanicananda.com
SUMMARY:Anahata Awakening
DESCRIPTION:This is a 2-day intimate immersive journey working with various entheogens. Please contact us directly for a Discovery Call so we can see if these master teachers and our facilitation are great fits for you.  \nCome take a deep dive into the center of your heart. In these two days\, you will be able to unlock the mysteries of the heart center. You will be able to plant seeds of compassion and nurture them into embodying a new you. \nThis new you sees colors more vibrantly\, smells are enhanced\, and taste buds are more heightened. Looking to remove heart walls and cultivate healthy boundaries? Are you ready to see how deep your love goes? \n\n\nCLICK HERE TO LEARN MORE
URL:https://www.shamanicananda.com/event/anahata-awakening/
CATEGORIES:Experiments,Journey,Life Style
ATTACH;FMTTYPE=image/jpeg:https://www.shamanicananda.com/wp-content/uploads/2015/02/image13-4.jpeg
END:VEVENT
BEGIN:VEVENT
DTSTART;VALUE=DATE:20221112
DTEND;VALUE=DATE:20221113
DTSTAMP:20260425T161308
CREATED:20150210T105919Z
LAST-MODIFIED:20221025T141843Z
UID:5716-1668211200-1668297599@www.shamanicananda.com
SUMMARY:Concentration Ceremony
DESCRIPTION:Concentration is one of the eight limbs to Ashtanga yoga.\nAshtanga basically means 8 limbs to enlightenment. Yoga means “to yoke into union or oneness.” \nWhy do we do Concentrations?\nThere are many reasons why a Concentration is beneficial. First and foremost\, you are able to access a present-state awareness that allows you to release the shackles of time for rapid healing. Healing may come in many forms and transformation never looks how you expect it would.\nThe intention behind a Concentration is to work with the sacraments in a subtle way. And to allow the subtle energies to anchor into our hearts. \nCLICK HERE FOR MORE INFORMATION
URL:https://www.shamanicananda.com/event/concentration-ceremony-2/
CATEGORIES:Education,Experiments,Life Style
ATTACH;FMTTYPE=image/jpeg:https://www.shamanicananda.com/wp-content/uploads/2015/02/image14-4.jpeg
END:VEVENT
BEGIN:VEVENT
DTSTART;VALUE=DATE:20221025
DTEND;VALUE=DATE:20221026
DTSTAMP:20260425T161308
CREATED:20150210T124251Z
LAST-MODIFIED:20221025T140740Z
UID:259-1666656000-1666742399@www.shamanicananda.com
SUMMARY:Non-Dual Therapy with 5
DESCRIPTION:By appointment only. CONTACT US for more info.
URL:https://www.shamanicananda.com/event/trekking-memories-from-avalanche/
CATEGORIES:Get Together,Journey,Life Style
ATTACH;FMTTYPE=image/jpeg:https://www.shamanicananda.com/wp-content/uploads/2015/02/image15-3.jpeg
END:VEVENT
END:VCALENDAR